Workbook

Sheet 导入表
A1: 序号 | B1: 客户税务识别号 | C1: 客户名称（税务） | D1: 开票日期 | E1: 发票代码 | F1: 发票号码 | G1: 金额 | H1: 税额 | I1: 价税合计 | J1: 发票类型
A2: 1 | B2: =IF(数据粘贴表!N2="","",数据粘贴表!N2) | C2: =IF(数据粘贴表!O2="","",数据粘贴表!O2) | D2: =IF(数据粘贴表!J2="","",TEXT(数据粘贴表!J2,"e-mm-dd")) | E2: =IF(数据粘贴表!L2="","",数据粘贴表!L2) | F2: =IF(数据粘贴表!E2="","",数据粘贴表!E2) | G2: =IF(数据粘贴表!F2="","",数据粘贴表!F2) | H2: =IF(数据粘贴表!D2="","",数据粘贴表!D2) | I2: =IF(数据粘贴表!K2="","",数据粘贴表!K2) | J2: =IF(数据粘贴表!Q2="","",LEFT(数据粘贴表!Q2,3)&RIGHT(数据粘贴表!Q2,4))
A3: 2 | B3: =IF(数据粘贴表!N3="","",数据粘贴表!N3) | C3: =IF(数据粘贴表!O3="","",数据粘贴表!O3) | D3: =IF(数据粘贴表!J3="","",TEXT(数据粘贴表!J3,"e-mm-dd")) | E3: =IF(数据粘贴表!L3="","",数据粘贴表!L3) | F3: =IF(数据粘贴表!E3="","",数据粘贴表!E3) | G3: =IF(数据粘贴表!F3="","",数据粘贴表!F3) | H3: =IF(数据粘贴表!D3="","",数据粘贴表!D3) | I3: =IF(数据粘贴表!K3="","",数据粘贴表!K3) | J3: =IF(数据粘贴表!Q3="","",LEFT(数据粘贴表!Q3,3)&RIGHT(数据粘贴表!Q3,4))
A4: 3 | B4: =IF(数据粘贴表!N4="","",数据粘贴表!N4) | C4: =IF(数据粘贴表!O4="","",数据粘贴表!O4) | D4: =IF(数据粘贴表!J4="","",TEXT(数据粘贴表!J4,"e-mm-dd")) | E4: =IF(数据粘贴表!L4="","",数据粘贴表!L4) | F4: =IF(数据粘贴表!E4="","",数据粘贴表!E4) | G4: =IF(数据粘贴表!F4="","",数据粘贴表!F4) | H4: =IF(数据粘贴表!D4="","",数据粘贴表!D4) | I4: =IF(数据粘贴表!K4="","",数据粘贴表!K4) | J4: =IF(数据粘贴表!Q4="","",LEFT(数据粘贴表!Q4,3)&RIGHT(数据粘贴表!Q4,4))
A5: 4 | B5: =IF(数据粘贴表!N5="","",数据粘贴表!N5) | C5: =IF(数据粘贴表!O5="","",数据粘贴表!O5) | D5: =IF(数据粘贴表!J5="","",TEXT(数据粘贴表!J5,"e-mm-dd")) | E5: =IF(数据粘贴表!L5="","",数据粘贴表!L5) | F5: =IF(数据粘贴表!E5="","",数据粘贴表!E5) | G5: =IF(数据粘贴表!F5="","",数据粘贴表!F5) | H5: =IF(数据粘贴表!D5="","",数据粘贴表!D5) | I5: =IF(数据粘贴表!K5="","",数据粘贴表!K5) | J5: =IF(数据粘贴表!Q5="","",LEFT(数据粘贴表!Q5,3)&RIGHT(数据粘贴表!Q5,4))
A6: 5 | B6: =IF(数据粘贴表!N6="","",数据粘贴表!N6) | C6: =IF(数据粘贴表!O6="","",数据粘贴表!O6) | D6: =IF(数据粘贴表!J6="","",TEXT(数据粘贴表!J6,"e-mm-dd")) | E6: =IF(数据粘贴表!L6="","",数据粘贴表!L6) | F6: =IF(数据粘贴表!E6="","",数据粘贴表!E6) | G6: =IF(数据粘贴表!F6="","",数据粘贴表!F6) | H6: =IF(数据粘贴表!D6="","",数据粘贴表!D6) | I6: =IF(数据粘贴表!K6="","",数据粘贴表!K6) | J6: =IF(数据粘贴表!Q6="","",LEFT(数据粘贴表!Q6,3)&RIGHT(数据粘贴表!Q6,4))
A7: 6 | B7: =IF(数据粘贴表!N7="","",数据粘贴表!N7) | C7: =IF(数据粘贴表!O7="","",数据粘贴表!O7) | D7: =IF(数据粘贴表!J7="","",TEXT(数据粘贴表!J7,"e-mm-dd")) | E7: =IF(数据粘贴表!L7="","",数据粘贴表!L7) | F7: =IF(数据粘贴表!E7="","",数据粘贴表!E7) | G7: =IF(数据粘贴表!F7="","",数据粘贴表!F7) | H7: =IF(数据粘贴表!D7="","",数据粘贴表!D7) | I7: =IF(数据粘贴表!K7="","",数据粘贴表!K7) | J7: =IF(数据粘贴表!Q7="","",LEFT(数据粘贴表!Q7,3)&RIGHT(数据粘贴表!Q7,4))
A8: 7 | B8: =IF(数据粘贴表!N8="","",数据粘贴表!N8) | C8: =IF(数据粘贴表!O8="","",数据粘贴表!O8) | D8: =IF(数据粘贴表!J8="","",TEXT(数据粘贴表!J8,"e-mm-dd")) | E8: =IF(数据粘贴表!L8="","",数据粘贴表!L8) | F8: =IF(数据粘贴表!E8="","",数据粘贴表!E8) | G8: =IF(数据粘贴表!F8="","",数据粘贴表!F8) | H8: =IF(数据粘贴表!D8="","",数据粘贴表!D8) | I8: =IF(数据粘贴表!K8="","",数据粘贴表!K8) | J8: =IF(数据粘贴表!Q8="","",LEFT(数据粘贴表!Q8,3)&RIGHT(数据粘贴表!Q8,4))
A9: 8 | B9: =IF(数据粘贴表!N9="","",数据粘贴表!N9) | C9: =IF(数据粘贴表!O9="","",数据粘贴表!O9) | D9: =IF(数据粘贴表!J9="","",TEXT(数据粘贴表!J9,"e-mm-dd")) | E9: =IF(数据粘贴表!L9="","",数据粘贴表!L9) | F9: =IF(数据粘贴表!E9="","",数据粘贴表!E9) | G9: =IF(数据粘贴表!F9="","",数据粘贴表!F9) | H9: =IF(数据粘贴表!D9="","",数据粘贴表!D9) | I9: =IF(数据粘贴表!K9="","",数据粘贴表!K9) | J9: =IF(数据粘贴表!Q9="","",LEFT(数据粘贴表!Q9,3)&RIGHT(数据粘贴表!Q9,4))
A10: 9 | B10: =IF(数据粘贴表!N10="","",数据粘贴表!N10) | C10: =IF(数据粘贴表!O10="","",数据粘贴表!O10) | D10: =IF(数据粘贴表!J10="","",TEXT(数据粘贴表!J10,"e-mm-dd")) | E10: =IF(数据粘贴表!L10="","",数据粘贴表!L10) | F10: =IF(数据粘贴表!E10="","",数据粘贴表!E10) | G10: =IF(数据粘贴表!F10="","",数据粘贴表!F10) | H10: =IF(数据粘贴表!D10="","",数据粘贴表!D10) | I10: =IF(数据粘贴表!K10="","",数据粘贴表!K10) | J10: =IF(数据粘贴表!Q10="","",LEFT(数据粘贴表!Q10,3)&RIGHT(数据粘贴表!Q10,4))
A11: 10 | B11: =IF(数据粘贴表!N11="","",数据粘贴表!N11) | C11: =IF(数据粘贴表!O11="","",数据粘贴表!O11) | D11: =IF(数据粘贴表!J11="","",TEXT(数据粘贴表!J11,"e-mm-dd")) | E11: =IF(数据粘贴表!L11="","",数据粘贴表!L11) | F11: =IF(数据粘贴表!E11="","",数据粘贴表!E11) | G11: =IF(数据粘贴表!F11="","",数据粘贴表!F11) | H11: =IF(数据粘贴表!D11="","",数据粘贴表!D11) | I11: =IF(数据粘贴表!K11="","",数据粘贴表!K11) | J11: =IF(数据粘贴表!Q11="","",LEFT(数据粘贴表!Q11,3)&RIGHT(数据粘贴表!Q11,4))
A12: 11 | B12: =IF(数据粘贴表!N12="","",数据粘贴表!N12) | C12: =IF(数据粘贴表!O12="","",数据粘贴表!O12) | D12: =IF(数据粘贴表!J12="","",TEXT(数据粘贴表!J12,"e-mm-dd")) | E12: =IF(数据粘贴表!L12="","",数据粘贴表!L12) | F12: =IF(数据粘贴表!E12="","",数据粘贴表!E12) | G12: =IF(数据粘贴表!F12="","",数据粘贴表!F12) | H12: =IF(数据粘贴表!D12="","",数据粘贴表!D12) | I12: =IF(数据粘贴表!K12="","",数据粘贴表!K12) | J12: =IF(数据粘贴表!Q12="","",LEFT(数据粘贴表!Q12,3)&RIGHT(数据粘贴表!Q12,4))
A13: 12 | B13: =IF(数据粘贴表!N13="","",数据粘贴表!N13) | C13: =IF(数据粘贴表!O13="","",数据粘贴表!O13) | D13: =IF(数据粘贴表!J13="","",TEXT(数据粘贴表!J13,"e-mm-dd")) | E13: =IF(数据粘贴表!L13="","",数据粘贴表!L13) | F13: =IF(数据粘贴表!E13="","",数据粘贴表!E13) | G13: =IF(数据粘贴表!F13="","",数据粘贴表!F13) | H13: =IF(数据粘贴表!D13="","",数据粘贴表!D13) | I13: =IF(数据粘贴表!K13="","",数据粘贴表!K13) | J13: =IF(数据粘贴表!Q13="","",LEFT(数据粘贴表!Q13,3)&RIGHT(数据粘贴表!Q13,4))
A14: 13 | B14: =IF(数据粘贴表!N14="","",数据粘贴表!N14) | C14: =IF(数据粘贴表!O14="","",数据粘贴表!O14) | D14: =IF(数据粘贴表!J14="","",TEXT(数据粘贴表!J14,"e-mm-dd")) | E14: =IF(数据粘贴表!L14="","",数据粘贴表!L14) | F14: =IF(数据粘贴表!E14="","",数据粘贴表!E14) | G14: =IF(数据粘贴表!F14="","",数据粘贴表!F14) | H14: =IF(数据粘贴表!D14="","",数据粘贴表!D14) | I14: =IF(数据粘贴表!K14="","",数据粘贴表!K14) | J14: =IF(数据粘贴表!Q14="","",LEFT(数据粘贴表!Q14,3)&RIGHT(数据粘贴表!Q14,4))
A15: 14 | B15: =IF(数据粘贴表!N15="","",数据粘贴表!N15) | C15: =IF(数据粘贴表!O15="","",数据粘贴表!O15) | D15: =IF(数据粘贴表!J15="","",数据粘贴表!J15) | E15: =IF(数据粘贴表!L15="","",数据粘贴表!L15) | F15: =IF(数据粘贴表!E15="","",数据粘贴表!E15) | G15: =IF(数据粘贴表!F15="","",数据粘贴表!F15) | H15: =IF(数据粘贴表!D15="","",数据粘贴表!D15) | I15: =IF(数据粘贴表!K15="","",数据粘贴表!K15) | J15: =IF(数据粘贴表!Q15="","",LEFT(数据粘贴表!Q15,3)&RIGHT(数据粘贴表!Q15,4))
A16: 15 | B16: =IF(数据粘贴表!N16="","",数据粘贴表!N16) | C16: =IF(数据粘贴表!O16="","",数据粘贴表!O16) | D16: =IF(数据粘贴表!J16="","",数据粘贴表!J16) | E16: =IF(数据粘贴表!L16="","",数据粘贴表!L16) | F16: =IF(数据粘贴表!E16="","",数据粘贴表!E16) | G16: =IF(数据粘贴表!F16="","",数据粘贴表!F16) | H16: =IF(数据粘贴表!D16="","",数据粘贴表!D16) | I16: =IF(数据粘贴表!K16="","",数据粘贴表!K16) | J16: =IF(数据粘贴表!Q16="","",LEFT(数据粘贴表!Q16,3)&RIGHT(数据粘贴表!Q16,4))
A17: 16 | B17: =IF(数据粘贴表!N17="","",数据粘贴表!N17) | C17: =IF(数据粘贴表!O17="","",数据粘贴表!O17) | D17: =IF(数据粘贴表!J17="","",数据粘贴表!J17) | E17: =IF(数据粘贴表!L17="","",数据粘贴表!L17) | F17: =IF(数据粘贴表!E17="","",数据粘贴表!E17) | G17: =IF(数据粘贴表!F17="","",数据粘贴表!F17) | H17: =IF(数据粘贴表!D17="","",数据粘贴表!D17) | I17: =IF(数据粘贴表!K17="","",数据粘贴表!K17) | J17: =IF(数据粘贴表!Q17="","",LEFT(数据粘贴表!Q17,3)&RIGHT(数据粘贴表!Q17,4))
A18: 17 | B18: =IF(数据粘贴表!N18="","",数据粘贴表!N18) | C18: =IF(数据粘贴表!O18="","",数据粘贴表!O18) | D18: =IF(数据粘贴表!J18="","",数据粘贴表!J18) | E18: =IF(数据粘贴表!L18="","",数据粘贴表!L18) | F18: =IF(数据粘贴表!E18="","",数据粘贴表!E18) | G18: =IF(数据粘贴表!F18="","",数据粘贴表!F18) | H18: =IF(数据粘贴表!D18="","",数据粘贴表!D18) | I18: =IF(数据粘贴表!K18="","",数据粘贴表!K18) | J18: =IF(数据粘贴表!Q18="","",LEFT(数据粘贴表!Q18,3)&RIGHT(数据粘贴表!Q18,4))

Sheet 数据粘贴表
A1: INFO | B1: 原发票代码 | C1: 作废日期 | D1: 税额 | E1: 发票号码 | F1: 合计金额 | G1: 清单标识 | H1: 作废人 | I1: 主要商品名称 | J1: 开票日期 | K1: 价税合计 | L1: 发票代码 | M1: 票信息表编号 | N1: 客户识别号 | O1: 客户名称 | P1: 上传状态 | Q1: 发票类型 | R1: 开票人 | S1: 发票状态 | T1: 原发票号码
